BEGIN:VCALENDAR
VERSION:2.0
PRODID:-// - ECPv6.15.20//NONSGML v1.0//EN
CALSCALE:GREGORIAN
METHOD:PUBLISH
X-ORIGINAL-URL:https://tiket.mainberita.com
X-WR-CALDESC:Events for 
REFRESH-INTERVAL;VALUE=DURATION:PT1H
X-Robots-Tag:noindex
X-PUBLISHED-TTL:PT1H
BEGIN:VTIMEZONE
TZID:Asia/Krasnoyarsk
BEGIN:STANDARD
TZOFFSETFROM:+0700
TZOFFSETTO:+0700
TZNAME:+07
DTSTART:20250101T000000
END:STANDARD
END:VTIMEZONE
BEGIN:VEVENT
DTSTART;VALUE=DATE:20260125
DTEND;VALUE=DATE:20260126
DTSTAMP:20260421T164930
CREATED:20260112T100057Z
LAST-MODIFIED:20260228T120554Z
UID:10000002-1769299200-1769385599@tiket.mainberita.com
SUMMARY:DISTRICT ONDERUN 5K 2026
DESCRIPTION:Jl. Kyai Haji Wahid Hasyim No.34\, Hutan\, Kauman\, Kec. Tulungagung\nKabupaten Tulungagung\, Jawa Timur 66219 \nFree Refresment – Hiburan – Sport Photo
URL:https://tiket.mainberita.com/event/district-onderun-5k-2026-2/
LOCATION:Onderan Kota\, Jl. Kyai Haji Wahid Hasyim No.34\, Hutan\, Kauman\, Kec. Tulungagung\, Kabupaten Tulungagung\, Jawa Timur\, 66219\, Indonesia
CATEGORIES:Run
ATTACH;FMTTYPE=image/jpeg:https://tiket.mainberita.com/wp-content/uploads/2026/01/district-onderun-5K-.jpg
ORGANIZER;CN="Main Berita":MAILTO:mainberitaofficial@gmail.com
END:VEVENT
BEGIN:VEVENT
DTSTART;TZID=Asia/Krasnoyarsk:20260308T000000
DTEND;TZID=Asia/Krasnoyarsk:20260331T233000
DTSTAMP:20260421T164930
CREATED:20260227T182927Z
LAST-MODIFIED:20260315T110656Z
UID:10000003-1772928000-1774999800@tiket.mainberita.com
SUMMARY:Friday Running Community Official Jersey Vol. 2
DESCRIPTION:  \n 
URL:https://tiket.mainberita.com/event/friday-running-community-official-jersey-vol-2/
CATEGORIES:Jersey
ATTACH;FMTTYPE=image/jpeg:https://tiket.mainberita.com/wp-content/uploads/2026/02/WhatsApp-Image-2026-03-07-at-12.41.00-PM.jpeg
END:VEVENT
END:VCALENDAR